BEGIN:VCALENDAR
VERSION:1.0
PRODID:Open2CKalenderExportV11
BEGIN:VEVENT
DTSTAMP:20220502T163229Z
DTSTART:20220522T000000Z
DTEND:20220522T000000Z
CATEGORIES:Vereine
SUMMARY:Meisterschaftsspiele 2. Bundesliga - Gachenbach
DESCRIPTION: | Organisator   BCA - Ball-Club Aresing - Stockschützen
LOCATION:
UID:497cf4e7d58e4873ed457e33f48701c1-6630c26866297cea48d1115364867c49
PRIORITY:3
END:VEVENT
END:VCALENDAR
