BEGIN:VCALENDAR
VERSION:1.0
PRODID:Open2CKalenderExportV11
BEGIN:VEVENT
DTSTAMP:20220502T165505Z
DTSTART:20220606T000000Z
DTEND:20220606T000000Z
CATEGORIES:Vereine
SUMMARY:Radltour GBV
DESCRIPTION: | Organisator   GBV - Gartnebauverein Aresing
LOCATION:
UID:6ea24c5d3e49aa6385699cc5015af238-e8a8aa433f79c3261ec4c5a2922362e8
PRIORITY:3
END:VEVENT
END:VCALENDAR
