BEGIN:VCALENDAR
VERSION:1.0
PRODID:Open2CKalenderExportV11
BEGIN:VEVENT
DTSTAMP:20230126T105915Z
DTSTART:20230617T000000Z
DTEND:20230617T000000Z
CATEGORIES:Vereine
SUMMARY:Donaumoosgausingen in Weichering
DESCRIPTION: | Organisator   MGV Aresing
LOCATION:
UID:c99cd984a36b05f96d3eb6fa05c9981c-df0e9ab4e8a85b9d806499e5c3de40ab
PRIORITY:3
END:VEVENT
END:VCALENDAR
