BEGIN:VCALENDAR
VERSION:2.0
PRODID:< http://www.open2c.de/ >
METHOD:PUBLISH
X-PUBLISHED-TTL:PT12H
BEGIN:VEVENT
CREATED:20220503T174004Z
LAST-MODIFIED:20220503T174023Z
ORGANIZER;CN="KDFB Oberlauterbach / Strobenried"
DTSTAMP:20260420T130050Z
DTSTART;VALUE=DATE:20220602
CATEGORIES:Vereine
SUMMARY:Versammlung\, unter Vorbehalt
DESCRIPTION:Organisator KDFB Oberlauterbach / Strobenried
UID:4b3e9213ae5e0c71c3bef16dda160842@9c8d30086bd9fb453df759d7adc7137d
END:VEVENT
BEGIN:VEVENT
CREATED:20220502T165416Z
LAST-MODIFIED:20220502T165505Z
ORGANIZER;CN="GBV - Gartnebauverein Aresing"
DTSTAMP:20260420T130050Z
DTSTART;VALUE=DATE:20220606
CATEGORIES:Vereine
SUMMARY:Radltour GBV
DESCRIPTION:Organisator GBV - Gartnebauverein Aresing
UID:10f7a20939fd18ee8c4e20d2b8ddad72@9c8d30086bd9fb453df759d7adc7137d
END:VEVENT
BEGIN:VEVENT
CREATED:20220503T180843Z
LAST-MODIFIED:20220503T181058Z
ORGANIZER;CN="Senioren Aresing"
DTSTAMP:20260420T130050Z
DTSTART;VALUE=DATE:20220623
CATEGORIES:Vereine
SUMMARY:Radltour Senioren Aresing
DESCRIPTION:Organisator Senioren Aresing
UID:51234af3eec7ef68b5c2640b4b423cb5@9c8d30086bd9fb453df759d7adc7137d
END:VEVENT
BEGIN:VEVENT
CREATED:20220503T180245Z
LAST-MODIFIED:20220503T180305Z
ORGANIZER;CN="SC Oberlauterbach"
DTSTAMP:20260420T130050Z
DTSTART;VALUE=DATE:20220625
CATEGORIES:Vereine
SUMMARY:Waldfest
DESCRIPTION:Organisator SC Oberlauterbach
UID:8deb1d67ec85ae24ee5e2671571e817b@9c8d30086bd9fb453df759d7adc7137d
END:VEVENT
BEGIN:VEVENT
CREATED:20220628T095630Z
LAST-MODIFIED:20220628T095822Z
DTSTAMP:20260420T130050Z
DTSTART:20220628T083000Z
DTEND:20220628T120000Z
CATEGORIES:Verschiedenes
SUMMARY:Schulung Rathaus
UID:c9bcf7dda720033dc946716140567039@9c8d30086bd9fb453df759d7adc7137d
END:VEVENT
BEGIN:VEVENT
CREATED:20220628T095932Z
LAST-MODIFIED:20220628T100014Z
DTSTAMP:20260420T130050Z
DTSTART:20220628T083000Z
DTEND:20220628T120000Z
CATEGORIES:Verschiedenes
SUMMARY:Schulung Rathaus
UID:b94ad17028463a77c4bf9d3d0879e7fe@9c8d30086bd9fb453df759d7adc7137d
END:VEVENT
END:VCALENDAR