BEGIN:VCALENDAR
VERSION:2.0
PRODID:< http://www.open2c.de/ >
METHOD:PUBLISH
X-PUBLISHED-TTL:PT12H
BEGIN:VEVENT
CREATED:20220503T174321Z
LAST-MODIFIED:20220503T174531Z
ORGANIZER;CN="KSV Krieger- und Soldatenverein Aresing"
DTSTAMP:20260420T162310Z
DTSTART;VALUE=DATE:20220529
CATEGORIES:Vereine
SUMMARY:Soldatenwallfahrt
DESCRIPTION:Organisator KSV Krieger- und Soldatenverein Aresing
LOCATION:Maria im Elend
UID:1d4c5d713181036338b28f94a4bbeac1@9c8d30086bd9fb453df759d7adc7137d
END:VEVENT
END:VCALENDAR