BEGIN:VCALENDAR
VERSION:2.0
PRODID:< http://www.open2c.de/ >
METHOD:PUBLISH
X-PUBLISHED-TTL:PT12H
BEGIN:VEVENT
CREATED:20220503T180706Z
LAST-MODIFIED:20220503T180833Z
ORGANIZER;CN="Senioren Aresing"
DTSTAMP:20260420T161901Z
DTSTART;VALUE=DATE:20220505
CATEGORIES:Vereine
SUMMARY:Spiele- und Ratschnachmitag im Wandererheim
DESCRIPTION:Organisator Senioren Aresing
LOCATION:Wandererheim
UID:164f281c94bc1135eae2cd2b3588bd6e@9c8d30086bd9fb453df759d7adc7137d
END:VEVENT
END:VCALENDAR