BEGIN:VCALENDAR
VERSION:2.0
PRODID:< http://www.open2c.de/ >
METHOD:PUBLISH
X-PUBLISHED-TTL:PT12H
BEGIN:VEVENT
CREATED:20230126T105547Z
LAST-MODIFIED:20230126T105915Z
ORGANIZER;CN="MGV Aresing"
DTSTAMP:20260425T150834Z
DTSTART;VALUE=DATE:20230617
CATEGORIES:Vereine
SUMMARY:Donaumoosgausingen in Weichering
DESCRIPTION:Organisator MGV Aresing
UID:3e5e2e4f9e3aee263fd9705e7b6783ff@9c8d30086bd9fb453df759d7adc7137d
END:VEVENT
END:VCALENDAR